BEGIN:VCALENDAR
VERSION:2.0
PRODID:-//Objectif Blue Stone - ECPv5.2.0//NONSGML v1.0//EN
CALSCALE:GREGORIAN
METHOD:PUBLISH
X-WR-CALNAME:Objectif Blue Stone
X-ORIGINAL-URL:https://www.objectifbluestone.eu
X-WR-CALDESC:évènements pour Objectif Blue Stone
BEGIN:VTIMEZONE
TZID:Europe/Brussels
BEGIN:DAYLIGHT
TZOFFSETFROM:+0100
TZOFFSETTO:+0200
TZNAME:CEST
DTSTART:20210328T010000
END:DAYLIGHT
BEGIN:STANDARD
TZOFFSETFROM:+0200
TZOFFSETTO:+0100
TZNAME:CET
DTSTART:20211031T010000
END:STANDARD
END:VTIMEZONE
BEGIN:VEVENT
DTSTART;TZID=Europe/Brussels:20210426T080000
DTEND;TZID=Europe/Brussels:20210430T170000
DTSTAMP:20260419T202955
CREATED:20210308T122759Z
LAST-MODIFIED:20210308T122759Z
UID:6665-1619424000-1619802000@www.objectifbluestone.eu
SUMMARY:TECHNIQUES DE COPIE SUR PIERRE
DESCRIPTION:Programme : présentation des techniques de copie (taille directe\, techniques de mise au point et des trois compas). Outillage du sculpteur.
URL:https://www.objectifbluestone.eu/formation/techniques-de-copie-sur-pierre-2/
LOCATION:Pôle de la Pierre à Soignies\, Rue Mademoiselle Hanicq\, 30\, Soignies\, Hainaut\, 7060\, Belgique
CATEGORIES:Formations complémentaires
ATTACH;FMTTYPE=image/jpeg:https://www.objectifbluestone.eu/wp-content/uploads/2019/10/20190912_103304.jpg
ORGANIZER;CN="P%C3%B4le%20de%20la%20pierre%20-%20Agence%20wallonne%20du%20patrimoine%20%28AWaP%29":MAILTO:benoit.lemmens@awap.be
END:VEVENT
END:VCALENDAR