BEGIN:VCALENDAR
VERSION:2.0
PRODID:-//Objectif Blue Stone - ECPv5.2.0//NONSGML v1.0//EN
CALSCALE:GREGORIAN
METHOD:PUBLISH
X-WR-CALNAME:Objectif Blue Stone
X-ORIGINAL-URL:https://www.objectifbluestone.eu
X-WR-CALDESC:évènements pour Objectif Blue Stone
BEGIN:VTIMEZONE
TZID:Europe/Brussels
BEGIN:DAYLIGHT
TZOFFSETFROM:+0100
TZOFFSETTO:+0200
TZNAME:CEST
DTSTART:20210328T010000
END:DAYLIGHT
BEGIN:STANDARD
TZOFFSETFROM:+0200
TZOFFSETTO:+0100
TZNAME:CET
DTSTART:20211031T010000
END:STANDARD
END:VTIMEZONE
BEGIN:VEVENT
DTSTART;TZID=Europe/Brussels:20210503T080000
DTEND;TZID=Europe/Brussels:20210511T170000
DTSTAMP:20260419T190339
CREATED:20210303T091222Z
LAST-MODIFIED:20210308T122949Z
UID:3091-1620028800-1620752400@www.objectifbluestone.eu
SUMMARY:Dégradation et conservation de la pierre
DESCRIPTION:Au fil du temps\, la pierre subit des altérations provenant de plusieurs facteurs tels que la pollution\, l’humidité\, les chocs physiques… Une identification des altérations et de leur cause est une étape primordiale pour déterminer l’intervention la plus pertinente : substitution\, consolidation ou restauration de l’élément altéré. \nProgramme \n\nMécanismes d’altération de la pierre\nPathologies des matériaux pierreux\nInteractions des supports avec les polluants\nOutils d’aide au diagnostic\nTraitement des pathologies: mécanismes\, effets et tests in situ\nProduits de traitement et évaluation de l’effet des traitements\nTechniques particulières: dessalement des matériaux pierreux et décapage des revêtements filmogènes\nPrésentation d’études de cas\n\nCycle de 4 jours de formation : 2\, 3\, 8 et 9 juin 2020
URL:https://www.objectifbluestone.eu/formation/degradation-et-conservation-de-la-pierre/
LOCATION:Pôle de la Pierre à Soignies\, Rue Mademoiselle Hanicq\, 30\, Soignies\, Hainaut\, 7060\, Belgique
CATEGORIES:Formations complémentaires
ATTACH;FMTTYPE=image/jpeg:https://www.objectifbluestone.eu/wp-content/uploads/2018/12/51631903_1304663359687104_5122645985436106752_o.jpg
ORGANIZER;CN="P%C3%B4le%20de%20la%20pierre%20-%20Agence%20wallonne%20du%20patrimoine%20%28AWaP%29":MAILTO:benoit.lemmens@awap.be
END:VEVENT
END:VCALENDAR